BEGIN:VCALENDAR
VERSION:2.0
PRODID:-//Sure Start Dungannon and Coalisland - ECPv6.15.20//NONSGML v1.0//EN
CALSCALE:GREGORIAN
METHOD:PUBLISH
X-ORIGINAL-URL:https://surestartdc.org
X-WR-CALDESC:Events for Sure Start Dungannon and Coalisland
REFRESH-INTERVAL;VALUE=DURATION:PT1H
X-Robots-Tag:noindex
X-PUBLISHED-TTL:PT1H
BEGIN:VTIMEZONE
TZID:UTC
BEGIN:STANDARD
TZOFFSETFROM:+0000
TZOFFSETTO:+0000
TZNAME:UTC
DTSTART:20220101T000000
END:STANDARD
END:VTIMEZONE
BEGIN:VEVENT
DTSTART;TZID=UTC:20250310T103000
DTEND;TZID=UTC:20250310T110000
DTSTAMP:20260420T083226
CREATED:20250204T165520Z
LAST-MODIFIED:20250206T132243Z
UID:10002884-1741602600-1741604400@surestartdc.org
SUMMARY:Story & Rhyme 0-3yrs
DESCRIPTION:Story and Rhyme: Promoting the use of your local library and a love of books\, this session helps parents and children bond and have fun whilst learning new stories and rhymes.  It enhances speech and language and social skills in all the children who attend.  The physical rhymes and songs enhance physical development and imagination for children 0 – 3 years.
URL:https://surestartdc.org/activity/story-rhyme-4/2025-03-10/
LOCATION:Dungannon Library
CATEGORIES:Story and Rhyme
END:VEVENT
BEGIN:VEVENT
DTSTART;TZID=UTC:20250224T103000
DTEND;TZID=UTC:20250224T110000
DTSTAMP:20260420T083226
CREATED:20250204T165520Z
LAST-MODIFIED:20250206T132243Z
UID:10002883-1740393000-1740394800@surestartdc.org
SUMMARY:Story & Rhyme 0-3yrs
DESCRIPTION:Story and Rhyme: Promoting the use of your local library and a love of books\, this session helps parents and children bond and have fun whilst learning new stories and rhymes.  It enhances speech and language and social skills in all the children who attend.  The physical rhymes and songs enhance physical development and imagination for children 0 – 3 years.
URL:https://surestartdc.org/activity/story-rhyme-4/2025-02-24/
LOCATION:Dungannon Library
CATEGORIES:Story and Rhyme
END:VEVENT
BEGIN:VEVENT
DTSTART;TZID=UTC:20250127T103000
DTEND;TZID=UTC:20250127T110000
DTSTAMP:20260420T083226
CREATED:20250204T165520Z
LAST-MODIFIED:20250206T132243Z
UID:10002882-1737973800-1737975600@surestartdc.org
SUMMARY:Story & Rhyme 0-3yrs
DESCRIPTION:Story and Rhyme: Promoting the use of your local library and a love of books\, this session helps parents and children bond and have fun whilst learning new stories and rhymes.  It enhances speech and language and social skills in all the children who attend.  The physical rhymes and songs enhance physical development and imagination for children 0 – 3 years.
URL:https://surestartdc.org/activity/story-rhyme-4/2025-01-27/
LOCATION:Dungannon Library
CATEGORIES:Story and Rhyme
END:VEVENT
BEGIN:VEVENT
DTSTART;TZID=UTC:20250113T103000
DTEND;TZID=UTC:20250113T110000
DTSTAMP:20260420T083226
CREATED:20250204T165520Z
LAST-MODIFIED:20250206T132243Z
UID:10002603-1736764200-1736766000@surestartdc.org
SUMMARY:Story & Rhyme 0-3yrs
DESCRIPTION:Story and Rhyme: Promoting the use of your local library and a love of books\, this session helps parents and children bond and have fun whilst learning new stories and rhymes.  It enhances speech and language and social skills in all the children who attend.  The physical rhymes and songs enhance physical development and imagination for children 0 – 3 years.
URL:https://surestartdc.org/activity/story-rhyme-4/2025-01-13/
LOCATION:Dungannon Library
CATEGORIES:Story and Rhyme
END:VEVENT
BEGIN:VEVENT
DTSTART;TZID=UTC:20240624T103000
DTEND;TZID=UTC:20240624T110000
DTSTAMP:20260420T083226
CREATED:20240711T125120Z
LAST-MODIFIED:20240711T125120Z
UID:10001032-1719225000-1719226800@surestartdc.org
SUMMARY:Story and Rhyme\, Dungannon
DESCRIPTION:Story and Rhyme: Promoting the use of your local library and a love of books\, this session helps parents and children bond and have fun whilst learning new stories and rhymes.  It enhances speech and language and social skills in all the children who attend.  The physical rhymes and songs enhance physical development and imagination for children 0 – 3 years.
URL:https://surestartdc.org/activity/story-and-rhyme-dungannon-2/2024-06-24/
LOCATION:Dungannon Library
CATEGORIES:Story and Rhyme
END:VEVENT
BEGIN:VEVENT
DTSTART;TZID=UTC:20240610T103000
DTEND;TZID=UTC:20240610T110000
DTSTAMP:20260420T083226
CREATED:20240711T125120Z
LAST-MODIFIED:20240711T125120Z
UID:10001031-1718015400-1718017200@surestartdc.org
SUMMARY:Story and Rhyme\, Dungannon
DESCRIPTION:Story and Rhyme: Promoting the use of your local library and a love of books\, this session helps parents and children bond and have fun whilst learning new stories and rhymes.  It enhances speech and language and social skills in all the children who attend.  The physical rhymes and songs enhance physical development and imagination for children 0 – 3 years.
URL:https://surestartdc.org/activity/story-and-rhyme-dungannon-2/2024-06-10/
LOCATION:Dungannon Library
CATEGORIES:Story and Rhyme
END:VEVENT
BEGIN:VEVENT
DTSTART;TZID=UTC:20240527T103000
DTEND;TZID=UTC:20240527T110000
DTSTAMP:20260420T083226
CREATED:20240711T125120Z
LAST-MODIFIED:20240711T125120Z
UID:10001030-1716805800-1716807600@surestartdc.org
SUMMARY:Story and Rhyme\, Dungannon
DESCRIPTION:Story and Rhyme: Promoting the use of your local library and a love of books\, this session helps parents and children bond and have fun whilst learning new stories and rhymes.  It enhances speech and language and social skills in all the children who attend.  The physical rhymes and songs enhance physical development and imagination for children 0 – 3 years.
URL:https://surestartdc.org/activity/story-and-rhyme-dungannon-2/2024-05-27/
LOCATION:Dungannon Library
CATEGORIES:Story and Rhyme
END:VEVENT
BEGIN:VEVENT
DTSTART;TZID=UTC:20240513T103000
DTEND;TZID=UTC:20240513T110000
DTSTAMP:20260420T083226
CREATED:20240711T125120Z
LAST-MODIFIED:20240711T125120Z
UID:10001029-1715596200-1715598000@surestartdc.org
SUMMARY:Story and Rhyme\, Dungannon
DESCRIPTION:Story and Rhyme: Promoting the use of your local library and a love of books\, this session helps parents and children bond and have fun whilst learning new stories and rhymes.  It enhances speech and language and social skills in all the children who attend.  The physical rhymes and songs enhance physical development and imagination for children 0 – 3 years.
URL:https://surestartdc.org/activity/story-and-rhyme-dungannon-2/2024-05-13/
LOCATION:Dungannon Library
CATEGORIES:Story and Rhyme
END:VEVENT
BEGIN:VEVENT
DTSTART;TZID=UTC:20240429T103000
DTEND;TZID=UTC:20240429T110000
DTSTAMP:20260420T083226
CREATED:20240711T125120Z
LAST-MODIFIED:20240711T125120Z
UID:10001028-1714386600-1714388400@surestartdc.org
SUMMARY:Story and Rhyme\, Dungannon
DESCRIPTION:Story and Rhyme: Promoting the use of your local library and a love of books\, this session helps parents and children bond and have fun whilst learning new stories and rhymes.  It enhances speech and language and social skills in all the children who attend.  The physical rhymes and songs enhance physical development and imagination for children 0 – 3 years.
URL:https://surestartdc.org/activity/story-and-rhyme-dungannon-2/2024-04-29/
LOCATION:Dungannon Library
CATEGORIES:Story and Rhyme
END:VEVENT
BEGIN:VEVENT
DTSTART;TZID=UTC:20240415T103000
DTEND;TZID=UTC:20240415T110000
DTSTAMP:20260420T083226
CREATED:20240711T125120Z
LAST-MODIFIED:20240711T125120Z
UID:10001027-1713177000-1713178800@surestartdc.org
SUMMARY:Story and Rhyme\, Dungannon
DESCRIPTION:Story and Rhyme: Promoting the use of your local library and a love of books\, this session helps parents and children bond and have fun whilst learning new stories and rhymes.  It enhances speech and language and social skills in all the children who attend.  The physical rhymes and songs enhance physical development and imagination for children 0 – 3 years.
URL:https://surestartdc.org/activity/story-and-rhyme-dungannon-2/2024-04-15/
LOCATION:Dungannon Library
CATEGORIES:Story and Rhyme
END:VEVENT
BEGIN:VEVENT
DTSTART;TZID=UTC:20240304T103000
DTEND;TZID=UTC:20240304T110000
DTSTAMP:20260420T083226
CREATED:20240103T102604Z
LAST-MODIFIED:20240103T150608Z
UID:10000901-1709548200-1709550000@surestartdc.org
SUMMARY:Story and Rhyme Dungannon
DESCRIPTION:Story and Rhyme: Promoting the use of your local library and a love of books\, this session helps parents and children bond and have fun whilst learning new stories and rhymes.  It enhances speech and language and social skills in all the children who attend.  The physical rhymes and songs enhance physical development and imagination for children 0 – 3 years.
URL:https://surestartdc.org/activity/story-and-rhymel/2024-03-04/
LOCATION:Dungannon Library
CATEGORIES:Story and Rhyme
END:VEVENT
BEGIN:VEVENT
DTSTART;TZID=UTC:20240219T103000
DTEND;TZID=UTC:20240219T110000
DTSTAMP:20260420T083226
CREATED:20240103T102604Z
LAST-MODIFIED:20240103T150608Z
UID:10000899-1708338600-1708340400@surestartdc.org
SUMMARY:Story and Rhyme Dungannon
DESCRIPTION:Story and Rhyme: Promoting the use of your local library and a love of books\, this session helps parents and children bond and have fun whilst learning new stories and rhymes.  It enhances speech and language and social skills in all the children who attend.  The physical rhymes and songs enhance physical development and imagination for children 0 – 3 years.
URL:https://surestartdc.org/activity/story-and-rhymel/2024-02-19/
LOCATION:Dungannon Library
CATEGORIES:Story and Rhyme
END:VEVENT
BEGIN:VEVENT
DTSTART;TZID=UTC:20240205T103000
DTEND;TZID=UTC:20240205T110000
DTSTAMP:20260420T083226
CREATED:20240103T102604Z
LAST-MODIFIED:20240103T150608Z
UID:10000897-1707129000-1707130800@surestartdc.org
SUMMARY:Story and Rhyme Dungannon
DESCRIPTION:Story and Rhyme: Promoting the use of your local library and a love of books\, this session helps parents and children bond and have fun whilst learning new stories and rhymes.  It enhances speech and language and social skills in all the children who attend.  The physical rhymes and songs enhance physical development and imagination for children 0 – 3 years.
URL:https://surestartdc.org/activity/story-and-rhymel/2024-02-05/
LOCATION:Dungannon Library
CATEGORIES:Story and Rhyme
END:VEVENT
BEGIN:VEVENT
DTSTART;TZID=UTC:20240122T103000
DTEND;TZID=UTC:20240122T110000
DTSTAMP:20260420T083226
CREATED:20240103T102604Z
LAST-MODIFIED:20240103T150608Z
UID:10000895-1705919400-1705921200@surestartdc.org
SUMMARY:Story and Rhyme Dungannon
DESCRIPTION:Story and Rhyme: Promoting the use of your local library and a love of books\, this session helps parents and children bond and have fun whilst learning new stories and rhymes.  It enhances speech and language and social skills in all the children who attend.  The physical rhymes and songs enhance physical development and imagination for children 0 – 3 years.
URL:https://surestartdc.org/activity/story-and-rhymel/2024-01-22/
LOCATION:Dungannon Library
CATEGORIES:Story and Rhyme
END:VEVENT
BEGIN:VEVENT
DTSTART;TZID=UTC:20240108T103000
DTEND;TZID=UTC:20240108T110000
DTSTAMP:20260420T083226
CREATED:20240103T102604Z
LAST-MODIFIED:20240103T150608Z
UID:10000793-1704709800-1704711600@surestartdc.org
SUMMARY:Story and Rhyme Dungannon
DESCRIPTION:Story and Rhyme: Promoting the use of your local library and a love of books\, this session helps parents and children bond and have fun whilst learning new stories and rhymes.  It enhances speech and language and social skills in all the children who attend.  The physical rhymes and songs enhance physical development and imagination for children 0 – 3 years.
URL:https://surestartdc.org/activity/story-and-rhymel/2024-01-08/
LOCATION:Dungannon Library
CATEGORIES:Story and Rhyme
END:VEVENT
BEGIN:VEVENT
DTSTART;TZID=UTC:20231218T103000
DTEND;TZID=UTC:20231218T110000
DTSTAMP:20260420T083226
CREATED:20230918T092417Z
LAST-MODIFIED:20230918T092417Z
UID:10000649-1702895400-1702897200@surestartdc.org
SUMMARY:Story and Rhyme
DESCRIPTION:Story and Rhyme: Promoting the use of your local library and a love of books\, this session helps parents and children bond and have fun whilst learning new stories and rhymes.  It enhances speech and language and social skills in all the children who attend.  The physical rhymes and songs enhance physical development and imagination for children 0 – 3 years.
URL:https://surestartdc.org/activity/story-and-rhyme-11/2023-12-18/
LOCATION:Dungannon Library
CATEGORIES:Story and Rhyme
END:VEVENT
BEGIN:VEVENT
DTSTART;TZID=UTC:20231204T103000
DTEND;TZID=UTC:20231204T110000
DTSTAMP:20260420T083226
CREATED:20230918T092417Z
LAST-MODIFIED:20230918T092417Z
UID:10000648-1701685800-1701687600@surestartdc.org
SUMMARY:Story and Rhyme
DESCRIPTION:Story and Rhyme: Promoting the use of your local library and a love of books\, this session helps parents and children bond and have fun whilst learning new stories and rhymes.  It enhances speech and language and social skills in all the children who attend.  The physical rhymes and songs enhance physical development and imagination for children 0 – 3 years.
URL:https://surestartdc.org/activity/story-and-rhyme-11/2023-12-04/
LOCATION:Dungannon Library
CATEGORIES:Story and Rhyme
END:VEVENT
BEGIN:VEVENT
DTSTART;TZID=UTC:20231120T103000
DTEND;TZID=UTC:20231120T110000
DTSTAMP:20260420T083226
CREATED:20230918T092417Z
LAST-MODIFIED:20230918T092417Z
UID:10000647-1700476200-1700478000@surestartdc.org
SUMMARY:Story and Rhyme
DESCRIPTION:Story and Rhyme: Promoting the use of your local library and a love of books\, this session helps parents and children bond and have fun whilst learning new stories and rhymes.  It enhances speech and language and social skills in all the children who attend.  The physical rhymes and songs enhance physical development and imagination for children 0 – 3 years.
URL:https://surestartdc.org/activity/story-and-rhyme-11/2023-11-20/
LOCATION:Dungannon Library
CATEGORIES:Story and Rhyme
END:VEVENT
BEGIN:VEVENT
DTSTART;TZID=UTC:20231106T103000
DTEND;TZID=UTC:20231106T110000
DTSTAMP:20260420T083226
CREATED:20230918T092417Z
LAST-MODIFIED:20230918T092417Z
UID:10000646-1699266600-1699268400@surestartdc.org
SUMMARY:Story and Rhyme
DESCRIPTION:Story and Rhyme: Promoting the use of your local library and a love of books\, this session helps parents and children bond and have fun whilst learning new stories and rhymes.  It enhances speech and language and social skills in all the children who attend.  The physical rhymes and songs enhance physical development and imagination for children 0 – 3 years.
URL:https://surestartdc.org/activity/story-and-rhyme-11/2023-11-06/
LOCATION:Dungannon Library
CATEGORIES:Story and Rhyme
END:VEVENT
BEGIN:VEVENT
DTSTART;TZID=UTC:20231023T103000
DTEND;TZID=UTC:20231023T110000
DTSTAMP:20260420T083226
CREATED:20230918T092417Z
LAST-MODIFIED:20230918T092417Z
UID:10000645-1698057000-1698058800@surestartdc.org
SUMMARY:Story and Rhyme
DESCRIPTION:Story and Rhyme: Promoting the use of your local library and a love of books\, this session helps parents and children bond and have fun whilst learning new stories and rhymes.  It enhances speech and language and social skills in all the children who attend.  The physical rhymes and songs enhance physical development and imagination for children 0 – 3 years.
URL:https://surestartdc.org/activity/story-and-rhyme-11/2023-10-23/
LOCATION:Dungannon Library
CATEGORIES:Story and Rhyme
END:VEVENT
BEGIN:VEVENT
DTSTART;TZID=UTC:20231009T103000
DTEND;TZID=UTC:20231009T110000
DTSTAMP:20260420T083226
CREATED:20230918T092417Z
LAST-MODIFIED:20230918T092417Z
UID:10000644-1696847400-1696849200@surestartdc.org
SUMMARY:Story and Rhyme
DESCRIPTION:Story and Rhyme: Promoting the use of your local library and a love of books\, this session helps parents and children bond and have fun whilst learning new stories and rhymes.  It enhances speech and language and social skills in all the children who attend.  The physical rhymes and songs enhance physical development and imagination for children 0 – 3 years.
URL:https://surestartdc.org/activity/story-and-rhyme-11/2023-10-09/
LOCATION:Dungannon Library
CATEGORIES:Story and Rhyme
END:VEVENT
BEGIN:VEVENT
DTSTART;TZID=UTC:20230925T103000
DTEND;TZID=UTC:20230925T110000
DTSTAMP:20260420T083226
CREATED:20230619T115413Z
LAST-MODIFIED:20230619T115413Z
UID:10000245-1695637800-1695639600@surestartdc.org
SUMMARY:Story & Rhyme: Dungannon
DESCRIPTION:
URL:https://surestartdc.org/activity/story-rhyme-dungannon-2/
LOCATION:Dungannon Library
CATEGORIES:Story and Rhyme
END:VEVENT
BEGIN:VEVENT
DTSTART;TZID=UTC:20230911T103000
DTEND;TZID=UTC:20230911T110000
DTSTAMP:20260420T083226
CREATED:20230619T115329Z
LAST-MODIFIED:20230619T115329Z
UID:10000244-1694428200-1694430000@surestartdc.org
SUMMARY:Story & Rhyme: Dungannon
DESCRIPTION:
URL:https://surestartdc.org/activity/story-rhyme-dungannon/
LOCATION:Dungannon Library
CATEGORIES:Story and Rhyme
END:VEVENT
BEGIN:VEVENT
DTSTART;TZID=UTC:20230626T110000
DTEND;TZID=UTC:20230626T110000
DTSTAMP:20260420T083226
CREATED:20230321T123904Z
LAST-MODIFIED:20230323T164050Z
UID:10000101-1687777200-1687777200@surestartdc.org
SUMMARY:Story and Rhyme\, Dungannon
DESCRIPTION:Story and Rhyme: Promotes the use of your local library and a love of books\, this session helps parents and children bond and have fun whilst learning new stories and rhymes.
URL:https://surestartdc.org/activity/story-and-rhyme-8/
LOCATION:Dungannon Library
CATEGORIES:Story and Rhyme
END:VEVENT
BEGIN:VEVENT
DTSTART;TZID=UTC:20230612T103000
DTEND;TZID=UTC:20230612T110000
DTSTAMP:20260420T083226
CREATED:20230321T123744Z
LAST-MODIFIED:20230323T175640Z
UID:10000100-1686565800-1686567600@surestartdc.org
SUMMARY:Story and Rhyme\, Dungannon
DESCRIPTION:Story and Rhyme: Promotes the use of your local library and a love of books\, this session helps parents and children bond and have fun whilst learning new stories and rhymes.
URL:https://surestartdc.org/activity/story-and-rhyme-7/
LOCATION:Dungannon Library
CATEGORIES:Story and Rhyme
END:VEVENT
BEGIN:VEVENT
DTSTART;TZID=UTC:20230522T103000
DTEND;TZID=UTC:20230522T110000
DTSTAMP:20260420T083226
CREATED:20230321T123651Z
LAST-MODIFIED:20230323T181443Z
UID:10000099-1684751400-1684753200@surestartdc.org
SUMMARY:Story and Rhyme\, Dungannon
DESCRIPTION:Story and Rhyme: Promotes the use of your local library and a love of books\, this session helps parents and children bond and have fun whilst learning new stories and rhymes.
URL:https://surestartdc.org/activity/story-and-rhyme-6/
LOCATION:Dungannon Library
CATEGORIES:Story and Rhyme
END:VEVENT
BEGIN:VEVENT
DTSTART;TZID=UTC:20230515T103000
DTEND;TZID=UTC:20230515T110000
DTSTAMP:20260420T083226
CREATED:20230321T123548Z
LAST-MODIFIED:20230323T182139Z
UID:10000098-1684146600-1684148400@surestartdc.org
SUMMARY:Story and Rhyme\, Dungannon
DESCRIPTION:Story and Rhyme: Promotes the use of your local library and a love of books\, this session helps parents and children bond and have fun whilst learning new stories and rhymes.
URL:https://surestartdc.org/activity/story-and-rhyme-5/
LOCATION:Dungannon Library
CATEGORIES:Story and Rhyme
END:VEVENT
BEGIN:VEVENT
DTSTART;TZID=UTC:20230417T103000
DTEND;TZID=UTC:20230417T110000
DTSTAMP:20260420T083226
CREATED:20230321T122339Z
LAST-MODIFIED:20230323T190134Z
UID:10000097-1681727400-1681729200@surestartdc.org
SUMMARY:Story and Rhyme\, Dungannon
DESCRIPTION:Story and Rhyme: Promotes the use of your local library and a love of books\, this session helps parents and children bond and have fun whilst learning new stories and rhymes.
URL:https://surestartdc.org/activity/story-and-rhyme-4/
LOCATION:Dungannon Library
CATEGORIES:Story and Rhyme
END:VEVENT
BEGIN:VEVENT
DTSTART;TZID=UTC:20230403T103000
DTEND;TZID=UTC:20230403T110000
DTSTAMP:20260420T083226
CREATED:20230321T131413Z
LAST-MODIFIED:20230323T190755Z
UID:10000104-1680517800-1680519600@surestartdc.org
SUMMARY:Story and Rhyme\, Dungannon
DESCRIPTION:Story and Rhyme: Promotes the use of your local library and a love of books\, this session helps parents and children bond and have fun whilst learning new stories and rhymes.
URL:https://surestartdc.org/activity/story-and-rhyme-9/
LOCATION:Dungannon Library
CATEGORIES:Story and Rhyme
END:VEVENT
BEGIN:VEVENT
DTSTART;TZID=UTC:20230320T103000
DTEND;TZID=UTC:20230320T110000
DTSTAMP:20260420T083226
CREATED:20230209T150553Z
LAST-MODIFIED:20230306T121132Z
UID:10000088-1679308200-1679310000@surestartdc.org
SUMMARY:Story and Rhyme\, Dungannon
DESCRIPTION:Story and Rhyme: Promotes the use of your local library and a love of books\, this session helps parents and children bond and have fun whilst learning new stories and rhymes.
URL:https://surestartdc.org/activity/story-and-rhyme-dungannon/
LOCATION:Dungannon Library
CATEGORIES:Story and Rhyme
END:VEVENT
END:VCALENDAR