BEGIN:VCALENDAR
VERSION:2.0
PRODID:-//Sure Start Dungannon and Coalisland - ECPv6.15.20//NONSGML v1.0//EN
CALSCALE:GREGORIAN
METHOD:PUBLISH
X-WR-CALNAME:Sure Start Dungannon and Coalisland
X-ORIGINAL-URL:https://surestartdc.org
X-WR-CALDESC:Events for Sure Start Dungannon and Coalisland
REFRESH-INTERVAL;VALUE=DURATION:PT1H
X-Robots-Tag:noindex
X-PUBLISHED-TTL:PT1H
BEGIN:VTIMEZONE
TZID:UTC
BEGIN:STANDARD
TZOFFSETFROM:+0000
TZOFFSETTO:+0000
TZNAME:UTC
DTSTART:20230101T000000
END:STANDARD
END:VTIMEZONE
BEGIN:VEVENT
DTSTART;TZID=UTC:20241202T103000
DTEND;TZID=UTC:20241202T233000
DTSTAMP:20260422T074604
CREATED:20240925T124933Z
LAST-MODIFIED:20240925T124933Z
UID:10002219-1733135400-1733182200@surestartdc.org
SUMMARY:Young Parents & Crèche
DESCRIPTION:Young Parents – This group is just what you need for a little bit of ‘you’ time. Relax for an hour with other mums in the same age group and join in a range of lovely activities.  Crèche is available with this program.
URL:https://surestartdc.org/activity/young-parents-creche-2/2024-12-02/
LOCATION:Main Office\, Dungannon
CATEGORIES:Young Parents
END:VEVENT
END:VCALENDAR