BEGIN:VCALENDAR
VERSION:2.0
PRODID:-//Sure Start Dungannon and Coalisland - ECPv6.15.20//NONSGML v1.0//EN
CALSCALE:GREGORIAN
METHOD:PUBLISH
X-ORIGINAL-URL:https://surestartdc.org
X-WR-CALDESC:Events for Sure Start Dungannon and Coalisland
REFRESH-INTERVAL;VALUE=DURATION:PT1H
X-Robots-Tag:noindex
X-PUBLISHED-TTL:PT1H
BEGIN:VTIMEZONE
TZID:UTC
BEGIN:STANDARD
TZOFFSETFROM:+0000
TZOFFSETTO:+0000
TZNAME:UTC
DTSTART:20240101T000000
END:STANDARD
END:VTIMEZONE
BEGIN:VEVENT
DTSTART;TZID=UTC:20250402T103000
DTEND;TZID=UTC:20250402T113000
DTSTAMP:20260421T235359
CREATED:20250311T134146Z
LAST-MODIFIED:20250311T134146Z
UID:10002956-1743589800-1743593400@surestartdc.org
SUMMARY:Young Parents Group & Creche
DESCRIPTION:Young Parents – This group is just what you need for a little bit of ‘you’ time. Relax for an hour with other mums in the same age group and join in a range of lovely activities.  Crèche is available with this program.
URL:https://surestartdc.org/activity/young-parents-group-creche/2025-04-02/
LOCATION:Main Office\, Dungannon
CATEGORIES:Young Parents
END:VEVENT
BEGIN:VEVENT
DTSTART;TZID=UTC:20250403T103000
DTEND;TZID=UTC:20250403T113000
DTSTAMP:20260421T235359
CREATED:20250311T134146Z
LAST-MODIFIED:20250311T134146Z
UID:10002957-1743676200-1743679800@surestartdc.org
SUMMARY:Young Parents Group & Creche
DESCRIPTION:Young Parents – This group is just what you need for a little bit of ‘you’ time. Relax for an hour with other mums in the same age group and join in a range of lovely activities.  Crèche is available with this program.
URL:https://surestartdc.org/activity/young-parents-group-creche/2025-04-03/
LOCATION:Main Office\, Dungannon
CATEGORIES:Young Parents
END:VEVENT
END:VCALENDAR