BEGIN:VCALENDAR
VERSION:2.0
PRODID:-//Sure Start Dungannon and Coalisland - ECPv6.15.20//NONSGML v1.0//EN
CALSCALE:GREGORIAN
METHOD:PUBLISH
X-ORIGINAL-URL:https://surestartdc.org
X-WR-CALDESC:Events for Sure Start Dungannon and Coalisland
REFRESH-INTERVAL;VALUE=DURATION:PT1H
X-Robots-Tag:noindex
X-PUBLISHED-TTL:PT1H
BEGIN:VTIMEZONE
TZID:UTC
BEGIN:STANDARD
TZOFFSETFROM:+0000
TZOFFSETTO:+0000
TZNAME:UTC
DTSTART:20240101T000000
END:STANDARD
END:VTIMEZONE
BEGIN:VEVENT
DTSTART;TZID=UTC:20250219T103000
DTEND;TZID=UTC:20250219T113000
DTSTAMP:20260420T034834
CREATED:20250211T093533Z
LAST-MODIFIED:20250211T093533Z
UID:10002924-1739961000-1739964600@surestartdc.org
SUMMARY:Speech Workshop with Creche
DESCRIPTION:If you have any concerns about your childs speech or are currently waiting to be seen by a Speech and Language Therapist\, come along to our “Tips for Talking for Toddlers” workshop. You will get practical ideas for what you can do with your child to encourage their speech\, language and communication.
URL:https://surestartdc.org/activity/speech-workshop-with-creche-3/
LOCATION:Main Office\, Dungannon
CATEGORIES:Speech Workshop
END:VEVENT
END:VCALENDAR