BEGIN:VCALENDAR
VERSION:2.0
PRODID:-//Sure Start Dungannon and Coalisland - ECPv6.15.20//NONSGML v1.0//EN
CALSCALE:GREGORIAN
METHOD:PUBLISH
X-WR-CALNAME:Sure Start Dungannon and Coalisland
X-ORIGINAL-URL:https://surestartdc.org
X-WR-CALDESC:Events for Sure Start Dungannon and Coalisland
REFRESH-INTERVAL;VALUE=DURATION:PT1H
X-Robots-Tag:noindex
X-PUBLISHED-TTL:PT1H
BEGIN:VTIMEZONE
TZID:UTC
BEGIN:STANDARD
TZOFFSETFROM:+0000
TZOFFSETTO:+0000
TZNAME:UTC
DTSTART:20230101T000000
END:STANDARD
END:VTIMEZONE
BEGIN:VEVENT
DTSTART;TZID=UTC:20240520T080000
DTEND;TZID=UTC:20240520T170000
DTSTAMP:20260420T171524
CREATED:20240711T134055Z
LAST-MODIFIED:20240711T134055Z
UID:10001201-1716192000-1716224400@surestartdc.org
SUMMARY:Speech & Language with Creche
DESCRIPTION:If you have any concerns about your childs speech or are currently waiting to be seen by a Speech and Language Therapist\, come along to our “Tips for Talking for Toddlers” workshop. You will get practical ideas for what you can do with your child to encourage their speech\, language and communication.
URL:https://surestartdc.org/activity/speech-language-with-creche/2024-05-20/1/
LOCATION:Main Office\, Dungannon
CATEGORIES:Speech Workshop
END:VEVENT
BEGIN:VEVENT
DTSTART;TZID=UTC:20240520T100000
DTEND;TZID=UTC:20240520T110000
DTSTAMP:20260420T171524
CREATED:20240711T134055Z
LAST-MODIFIED:20240711T134055Z
UID:10001202-1716199200-1716202800@surestartdc.org
SUMMARY:Speech & Language with Creche
DESCRIPTION:If you have any concerns about your childs speech or are currently waiting to be seen by a Speech and Language Therapist\, come along to our “Tips for Talking for Toddlers” workshop. You will get practical ideas for what you can do with your child to encourage their speech\, language and communication.
URL:https://surestartdc.org/activity/speech-language-with-creche/2024-05-20/2/
LOCATION:Main Office\, Dungannon
CATEGORIES:Speech Workshop
END:VEVENT
END:VCALENDAR