BEGIN:VCALENDAR
VERSION:2.0
PRODID:-//Sure Start Dungannon and Coalisland - ECPv6.15.20//NONSGML v1.0//EN
CALSCALE:GREGORIAN
METHOD:PUBLISH
X-WR-CALNAME:Sure Start Dungannon and Coalisland
X-ORIGINAL-URL:https://surestartdc.org
X-WR-CALDESC:Events for Sure Start Dungannon and Coalisland
REFRESH-INTERVAL;VALUE=DURATION:PT1H
X-Robots-Tag:noindex
X-PUBLISHED-TTL:PT1H
BEGIN:VTIMEZONE
TZID:UTC
BEGIN:STANDARD
TZOFFSETFROM:+0000
TZOFFSETTO:+0000
TZNAME:UTC
DTSTART:20230101T000000
END:STANDARD
END:VTIMEZONE
BEGIN:VEVENT
DTSTART;TZID=UTC:20240528T100000
DTEND;TZID=UTC:20240528T113000
DTSTAMP:20260421T210231
CREATED:20240711T134857Z
LAST-MODIFIED:20240711T134857Z
UID:10001215-1716890400-1716895800@surestartdc.org
SUMMARY:Parents Forum with Creche
DESCRIPTION:Parents Forum: The Parents Forum is an opportunity for parents to share what they think about SureStart activities\, highlighting what we are doing well and what we can improve on.  Crèche is available with this programme.
URL:https://surestartdc.org/activity/parents-forum-with-creche-3/
LOCATION:Main Office\, Dungannon
CATEGORIES:Parents Forum
END:VEVENT
END:VCALENDAR