BEGIN:VCALENDAR
VERSION:2.0
PRODID:-//Sure Start Dungannon and Coalisland - ECPv6.15.20//NONSGML v1.0//EN
CALSCALE:GREGORIAN
METHOD:PUBLISH
X-ORIGINAL-URL:https://surestartdc.org
X-WR-CALDESC:Events for Sure Start Dungannon and Coalisland
REFRESH-INTERVAL;VALUE=DURATION:PT1H
X-Robots-Tag:noindex
X-PUBLISHED-TTL:PT1H
BEGIN:VTIMEZONE
TZID:UTC
BEGIN:STANDARD
TZOFFSETFROM:+0000
TZOFFSETTO:+0000
TZNAME:UTC
DTSTART:20240101T000000
END:STANDARD
END:VTIMEZONE
BEGIN:VEVENT
DTSTART;TZID=UTC:20250603T130000
DTEND;TZID=UTC:20250603T140000
DTSTAMP:20260421T175544
CREATED:20250312T103206Z
LAST-MODIFIED:20250312T103206Z
UID:10003237-1748955600-1748959200@surestartdc.org
SUMMARY:Balanceability 2.5 yrs - 3 yrs (Outdoor Group) -
DESCRIPTION:Balanceability is an approved Learn to Cycle programme for children aged 2.5 and upwards.  It is the starting point for children’s cycling and is an excellent opportunity to promote active lifestyles at the earliest possible stage.
URL:https://surestartdc.org/activity/balanceability-2-5-yrs-3-yrs-outdoor-group/2025-06-03/
CATEGORIES:Balanceability
END:VEVENT
BEGIN:VEVENT
DTSTART;TZID=UTC:20250610T130000
DTEND;TZID=UTC:20250610T140000
DTSTAMP:20260421T175544
CREATED:20250312T103206Z
LAST-MODIFIED:20250312T103206Z
UID:10003238-1749560400-1749564000@surestartdc.org
SUMMARY:Balanceability 2.5 yrs - 3 yrs (Outdoor Group) -
DESCRIPTION:Balanceability is an approved Learn to Cycle programme for children aged 2.5 and upwards.  It is the starting point for children’s cycling and is an excellent opportunity to promote active lifestyles at the earliest possible stage.
URL:https://surestartdc.org/activity/balanceability-2-5-yrs-3-yrs-outdoor-group/2025-06-10/
CATEGORIES:Balanceability
END:VEVENT
BEGIN:VEVENT
DTSTART;TZID=UTC:20250617T130000
DTEND;TZID=UTC:20250617T140000
DTSTAMP:20260421T175544
CREATED:20250312T103206Z
LAST-MODIFIED:20250312T103206Z
UID:10003239-1750165200-1750168800@surestartdc.org
SUMMARY:Balanceability 2.5 yrs - 3 yrs (Outdoor Group) -
DESCRIPTION:Balanceability is an approved Learn to Cycle programme for children aged 2.5 and upwards.  It is the starting point for children’s cycling and is an excellent opportunity to promote active lifestyles at the earliest possible stage.
URL:https://surestartdc.org/activity/balanceability-2-5-yrs-3-yrs-outdoor-group/2025-06-17/
CATEGORIES:Balanceability
END:VEVENT
BEGIN:VEVENT
DTSTART;TZID=UTC:20250624T130000
DTEND;TZID=UTC:20250624T140000
DTSTAMP:20260421T175544
CREATED:20250312T103206Z
LAST-MODIFIED:20250312T103206Z
UID:10003240-1750770000-1750773600@surestartdc.org
SUMMARY:Balanceability 2.5 yrs - 3 yrs (Outdoor Group) -
DESCRIPTION:Balanceability is an approved Learn to Cycle programme for children aged 2.5 and upwards.  It is the starting point for children’s cycling and is an excellent opportunity to promote active lifestyles at the earliest possible stage.
URL:https://surestartdc.org/activity/balanceability-2-5-yrs-3-yrs-outdoor-group/2025-06-24/
CATEGORIES:Balanceability
END:VEVENT
END:VCALENDAR