BEGIN:VCALENDAR
VERSION:2.0
PRODID:-//Sure Start Dungannon and Coalisland - ECPv6.15.20//NONSGML v1.0//EN
CALSCALE:GREGORIAN
METHOD:PUBLISH
X-WR-CALNAME:Sure Start Dungannon and Coalisland
X-ORIGINAL-URL:https://surestartdc.org
X-WR-CALDESC:Events for Sure Start Dungannon and Coalisland
REFRESH-INTERVAL;VALUE=DURATION:PT1H
X-Robots-Tag:noindex
X-PUBLISHED-TTL:PT1H
BEGIN:VTIMEZONE
TZID:UTC
BEGIN:STANDARD
TZOFFSETFROM:+0000
TZOFFSETTO:+0000
TZNAME:UTC
DTSTART:20240101T000000
END:STANDARD
END:VTIMEZONE
BEGIN:VEVENT
DTSTART;TZID=UTC:20250414T180000
DTEND;TZID=UTC:20250414T190000
DTSTAMP:20260419T220719
CREATED:20250311T162858Z
LAST-MODIFIED:20250311T162858Z
UID:10003185-1744653600-1744657200@surestartdc.org
SUMMARY:Antenatal Workshop
DESCRIPTION:Antenatal Workshops: In our Antenatal Workshops we are here to help you prepare for your baby. You will be able to chat to other pregnant women over a coffee while we cover a variety of topics of interest to you and your growing bump. These will include meeting our midwife\, infant feeding choices and preparing for hospital.
URL:https://surestartdc.org/activity/antenatal-workshop-9/
LOCATION:Main Office\, Dungannon
CATEGORIES:Antenatal Workshops
END:VEVENT
END:VCALENDAR